BEGIN:VCALENDAR
VERSION:2.0
PRODID:-//NC United FC - ECPv6.15.20//NONSGML v1.0//EN
CALSCALE:GREGORIAN
METHOD:PUBLISH
X-WR-CALNAME:NC United FC
X-ORIGINAL-URL:https://ncutdfc.co.uk
X-WR-CALDESC:Events for NC United FC
REFRESH-INTERVAL;VALUE=DURATION:PT1H
X-Robots-Tag:noindex
X-PUBLISHED-TTL:PT1H
BEGIN:VTIMEZONE
TZID:UTC
BEGIN:STANDARD
TZOFFSETFROM:+0000
TZOFFSETTO:+0000
TZNAME:UTC
DTSTART:20210101T000000
END:STANDARD
END:VTIMEZONE
BEGIN:VEVENT
DTSTART;TZID=UTC:20241214T120000
DTEND;TZID=UTC:20241214T140000
DTSTAMP:20260425T101918
CREATED:20241127T100159Z
LAST-MODIFIED:20241127T100159Z
UID:4190-1734177600-1734184800@ncutdfc.co.uk
SUMMARY:Christmas Party 2024
DESCRIPTION:
URL:https://ncutdfc.co.uk/event/christmas-party-2024
LOCATION:NC Clubhouse\, Tolkien Way\, Wellington\, TF1 2GF
END:VEVENT
BEGIN:VEVENT
DTSTART;TZID=UTC:20241115T190000
DTEND;TZID=UTC:20241115T230000
DTSTAMP:20260425T101918
CREATED:20240917T135838Z
LAST-MODIFIED:20240917T135838Z
UID:4093-1731697200-1731711600@ncutdfc.co.uk
SUMMARY:Quiz Night 2024
DESCRIPTION:
URL:https://ncutdfc.co.uk/event/quiz-night-2024
LOCATION:Wellington Cricket Club\, The Pavillion\, Haygate Rd\, Telford\, Shropshire\, TF1 2BW
END:VEVENT
BEGIN:VEVENT
DTSTART;TZID=UTC:20240427T190000
DTEND;TZID=UTC:20240427T230000
DTSTAMP:20260425T101918
CREATED:20230712T125121Z
LAST-MODIFIED:20240415T110617Z
UID:3118-1714244400-1714258800@ncutdfc.co.uk
SUMMARY:Race Night
DESCRIPTION:
URL:https://ncutdfc.co.uk/event/race-night
LOCATION:The Horseshoes Inn\, Holyhead Road\, Ketley.\, Telford\, TF1 5AE\, United Kingdom
END:VEVENT
BEGIN:VEVENT
DTSTART;TZID=UTC:20240316T150000
DTEND;TZID=UTC:20240316T170000
DTSTAMP:20260425T101918
CREATED:20230712T124912Z
LAST-MODIFIED:20240315T161235Z
UID:3115-1710601200-1710608400@ncutdfc.co.uk
SUMMARY:Easter Egg Hunt 2024
DESCRIPTION:
URL:https://ncutdfc.co.uk/event/easter-party
LOCATION:NC Clubhouse\, Tolkien Way\, Wellington\, TF1 2GF
CATEGORIES:Easter
END:VEVENT
BEGIN:VEVENT
DTSTART;TZID=UTC:20231209T100000
DTEND;TZID=UTC:20231209T140000
DTSTAMP:20260425T101918
CREATED:20230712T124835Z
LAST-MODIFIED:20230712T124835Z
UID:3113-1702116000-1702130400@ncutdfc.co.uk
SUMMARY:Christmas Party
DESCRIPTION:
URL:https://ncutdfc.co.uk/event/christmas-party-3
LOCATION:NC Clubhouse\, Tolkien Way\, Wellington\, TF1 2GF
END:VEVENT
BEGIN:VEVENT
DTSTART;TZID=UTC:20231124T190000
DTEND;TZID=UTC:20231124T230000
DTSTAMP:20260425T101918
CREATED:20231113T170829Z
LAST-MODIFIED:20231113T172216Z
UID:3614-1700852400-1700866800@ncutdfc.co.uk
SUMMARY:Quiz Night
DESCRIPTION:Teams can register via https://forms.gle/wN9WoYxwb1sQ2JGC7
URL:https://ncutdfc.co.uk/event/quiz-night-2
LOCATION:The Horseshoes Inn\, Holyhead Road\, Ketley.\, Telford\, TF1 5AE\, United Kingdom
END:VEVENT
BEGIN:VEVENT
DTSTART;TZID=UTC:20231021T140000
DTEND;TZID=UTC:20231021T170000
DTSTAMP:20260425T101918
CREATED:20230712T124314Z
LAST-MODIFIED:20230914T142252Z
UID:3107-1697896800-1697907600@ncutdfc.co.uk
SUMMARY:Halloween Event
DESCRIPTION:
URL:https://ncutdfc.co.uk/event/halloween-event
LOCATION:NC Clubhouse\, Tolkien Way\, Wellington\, TF1 2GF
END:VEVENT
BEGIN:VEVENT
DTSTART;VALUE=DATE:20230513
DTEND;VALUE=DATE:20230515
DTSTAMP:20260425T101918
CREATED:20230115T223827Z
LAST-MODIFIED:20230207T145517Z
UID:1588-1683936000-1684108799@ncutdfc.co.uk
SUMMARY:NC United Football Tournament (u7 - u10s) & Summer Fete
DESCRIPTION:
URL:https://ncutdfc.co.uk/event/summer-fair-u8-u10-football-tournament
LOCATION:NC Clubhouse\, Tolkien Way\, Wellington\, TF1 2GF
END:VEVENT
BEGIN:VEVENT
DTSTART;TZID=UTC:20230401T140000
DTEND;TZID=UTC:20230401T170000
DTSTAMP:20260425T101918
CREATED:20230115T223429Z
LAST-MODIFIED:20230306T142822Z
UID:1586-1680357600-1680368400@ncutdfc.co.uk
SUMMARY:Easter Egg Hunt
DESCRIPTION:
URL:https://ncutdfc.co.uk/event/easter-egg-hunt
LOCATION:NC Clubhouse\, Tolkien Way\, Wellington\, TF1 2GF
END:VEVENT
BEGIN:VEVENT
DTSTART;TZID=UTC:20221211T140000
DTEND;TZID=UTC:20221211T170000
DTSTAMP:20260425T101918
CREATED:20221208T145412Z
LAST-MODIFIED:20221208T145412Z
UID:151-1670767200-1670778000@ncutdfc.co.uk
SUMMARY:Christmas Party
DESCRIPTION:
URL:https://ncutdfc.co.uk/event/christmas-party
LOCATION:NC Clubhouse\, Tolkien Way\, Wellington\, TF1 2GF
END:VEVENT
END:VCALENDAR